Workbook

Sheet wiege
A1: Veranstalter: | C1: BAC 55 Hockenheim e.V. | E1: Urkunde
A2: Art : | C2: Badenliga 20256 | E2: Urkunde
A3: Ort : | C3: Hockenheim | E3: Urkunde
A4: Datum : | C4: 46319
A5: Gewichtsklasse : | C5: Männer | D5: Wiegeliste | F5: m
A6: Sportl. Leitung : | C6: Unsöld / Wölfelschneider
A7: Listen- | B7: Name | D7: Verein | E7: Jahr- | F7: Los
A8: platz | E8: gang
A9: 1A | D9: Heidelberger JC
A10: 2A | D10: JT Heidelberg-Mannheim
A11: 3A | D11: PS Karlsruhe
A12: 4A | D12: BC Schwetzingen
A13: 1B | D13: Freiburger JC
A14: 2B | D14: FT Freiburg
A15: 3B | D15: JC Sinzheim
A16: 4B

Sheet Pool
B2: Poolliste für 8 Kämpfer | I2: Platzierung:
B3: Veranstaltung: | D3: =wiege!C2 -> Badenliga 20256 | I3: 1. | J3: =Q48 | R3: JT Heidelberg-Mannheim
B4: Sportl. Leitung: | D4: =wiege!C6 -> Unsöld / Wölfelschneider | I4: 2. | J4: =IF(P50="w",G50,IF(P50="r",G46,"")) | R4: Heidelberger JC
B5: Gewichtsklasse: | D5: =wiege!C5 -> Männer | I5: 3. | J5: =IF(F47="w",C47,IF(F47="r",C45,"")) | R5: FT 1844 Freiburg
B6: Datum : | D6: =wiege!C4 -> 46319 | I6: 4. | J6: =IF(F51="w",C51,IF(F51="r",C49,"")) | R6: Freiburger JC
I7: 5. | J7: =IF(X15=3,C15,IF(X16=3,C16,IF(X17=3,C17,IF(X18=3,C18,"")))) -> 0 | R7: PS Karlsruhe
I8: 6. | J8: =IF(X31=3,C31,IF(X32=3,C32,IF(X33=3,C33,IF(X34=3,C34,"")))) -> 0 | R8: JC Sinzheim
I9: 7. | J9: =IF(X15=4,C15,IF(X16=4,C16,IF(X17=4,C17,IF(X18=4,C18,"")))) -> 0 | R9: BC Schwetzingen
I10: 7. | J10: =IF(X31=4,C31,IF(X32=4,C32,IF(X33=4,C33,IF(X34=4,C34,"")))) | R10: =IF(X31=4,E31,IF(X32=4,E32,IF(X33=4,E33,IF(X34=4,E34,""))))
S12: Gesamtwertung
B13: A | C13: Name | E13: Verein | G13: Pkt. | H13: Unterberwert. | J13: Pkt. | K13: Unterberwert. | M13: Pkt. | N13: Unterberwert. | P13: Pkt. | Q13: Unterberwert. | S13: Punkte | U13: Unterbew. | X13: Ergeb.
B14: LOS | H14: 1 | K14: 2 | N14: 3 | Q14: 4
B15: 1 | C15: =wiege!B9 -> 0 | E15: =wiege!D9 -> Heidelberger JC | G15: X | H15: X | I15: X | J15: =S21 -> 0 | K15: =U21 -> 20 | L15: =V21 -> 47 | M15: =S25 -> 2 | N15: =U25 -> 55 | O15: =V25 -> 10 | P15: =S23 -> 2 | Q15: =U23 -> 70 | R15: =V23 -> 0 | S15: =SUM(J15+M15+P15) -> 4 | U15: =SUM(K15+N15+Q15) -> 145 | V15: =SUM(L15+O15+R15) -> 57 | X15: 2
B16: 2 | C16: =wiege!B10 -> 0 | E16: =wiege!D10 -> JT Heidelberg-Mannheim | G16: =T21 -> 2 | H16: =V21 -> 47 | I16: =U21 -> 20 | J16: X | K16: X | L16: X | M16: =S24 -> 2 | N16: =U24 -> 65 | O16: =V24 -> 0 | P16: =S26 -> 2 | Q16: =U26 -> 60 | R16: =V26 -> 10 | S16: =SUM(G16+M16+P16) -> 6 | U16: =SUM(H16+N16+Q16) -> 172 | V16: =SUM(I16+O16+R16) -> 30 | X16: 1
B17: 3 | C17: =wiege!B11 -> 0 | E17: =wiege!D11 -> PS Karlsruhe | G17: =T25 -> 0 | H17: =V25 -> 10 | I17: =U25 -> 55 | J17: =T24 -> 0 | K17: =V24 -> 0 | L17: =U24 -> 65 | M17: X | N17: X | O17: X | P17: =S22 -> 2 | Q17: =U22 -> 47 | R17: =V22 -> 20 | S17: =SUM(G17+J17+P17) -> 2 | U17: =SUM(H17+K17+Q17) -> 57 | V17: =SUM(I17+L17+R17) -> 140 | X17: 3
B18: 4 | C18: =wiege!B12 -> 0 | E18: =wiege!D12 -> BC Schwetzingen | G18: =T23 -> 0 | H18: =V23 -> 0 | I18: =U23 -> 70 | J18: =T26 -> 0 | K18: =V26 -> 10 | L18: =U26 -> 60 | M18: =T22 -> 0 | N18: =V22 -> 20 | O18: =U22 -> 47 | P18: X | Q18: X | R18: X | S18: =SUM(G18+J18+M18) -> 0 | U18: =SUM(H18+K18+N18) -> 30 | V18: =SUM(I18+L18+O18) -> 177 | X18: 4
B20: Kampffolgen Pool A : | S20: Erg. | U20: Unterbew. | X20: Zeit
B21: 1 - 2 | C21: =C15 -> 0 | E21: =E15 -> Heidelberger JC | F21: - | G21: =C16 -> 0 | J21: 2 | K21: 5 | M21: =E16 -> JT Heidelberg-Mannheim | S21: 0 | T21: 2 | U21: 20 | V21: 47 | Y21: 1
B22: 3 - 4 | C22: =C17 -> 0 | E22: =E17 -> PS Karlsruhe | F22: - | G22: =C18 -> 0 | J22: 5 | K22: 2 | M22: =E18 -> BC Schwetzingen | S22: 2 | T22: 0 | U22: 47 | V22: 20 | Y22: 3
B23: 1 - 4 | C23: =C15 -> 0 | E23: =E15 -> Heidelberger JC | F23: - | G23: =C18 -> 0 | J23: 7 | K23: 0 | M23: =E18 -> BC Schwetzingen | S23: 2 | T23: 0 | U23: 70 | V23: 0 | Y23: 7
B24: 2 - 3 | C24: =C16 -> 0 | E24: =E16 -> JT Heidelberg-Mannheim | F24: - | G24: =C17 -> 0 | J24: 7 | K24: 0 | M24: =E17 -> PS Karlsruhe | S24: 2 | T24: 0 | U24: 65 | V24: 0 | Y24: 8
B25: 1 - 3 | C25: =C15 -> 0 | E25: =E15 -> Heidelberger JC | F25: - | G25: =C17 -> 0 | J25: 6 | K25: 1 | M25: =E17 -> PS Karlsruhe | S25: 2 | T25: 0 | U25: 55 | V25: 10 | Y25: 5
B26: 2 - 4 | C26: =C16 -> 0 | E26: =E16 -> JT Heidelberg-Mannheim | F26: - | G26: =C18 -> 0 | J26: 6 | K26: 1 | M26: =E18 -> BC Schwetzingen | S26: 2 | T26: 0 | U26: 60 | V26: 10 | Y26: 6
S28: Gesamtwertung
B29: B | C29: Name | E29: Verein | G29: Pkt. | H29: Unterberwert. | J29: Pkt. | K29: Unterberwert. | M29: Pkt. | N29: Unterberwert. | P29: Pkt. | Q29: Unterberwert. | S29: Punkte | U29: Unterbew. | X29: Ergeb.
B30: LOS | H30: 1 | K30: 2 | N30: 3 | Q30: 4
B31: 1 | C31: =wiege!B13 -> 0 | E31: =wiege!D13 -> Freiburger JC | G31: X | H31: X | I31: X | J31: =S37 -> 0 | K31: =U37 -> 17 | L31: =V37 -> 50 | M31: =S41 -> 2 | N31: =U41 -> 50 | O31: =V41 -> 15 | P31: =S39 -> 0 | Q31: =U39 -> 0 | R31: =V39 -> 0 | S31: =SUM(J31+M31+P31) -> 2 | U31: =SUM(K31+N31+Q31) -> 67 | V31: =SUM(L31+O31+R31) -> 65 | X31: 2
B32: 2 | C32: =wiege!B14 -> 0 | E32: =wiege!D14 -> FT Freiburg | G32: =T37 -> 2 | H32: =V37 -> 50 | I32: =U37 -> 17 | J32: X | K32: X | L32: X | M32: =S40 -> 2 | N32: =U40 -> 60 | O32: =V40 -> 10 | P32: =S42 -> 0 | Q32: =U42 -> 0 | R32: =V42 -> 0 | S32: =SUM(G32+M32+P32) -> 4 | U32: =SUM(H32+N32+Q32) -> 110 | V32: =SUM(I32+O32+R32) -> 27 | X32: 1
B33: 3 | C33: =wiege!B15 -> 0 | E33: =wiege!D15 -> JC Sinzheim | G33: =T41 -> 0 | H33: =V41 -> 15 | I33: =U41 -> 50 | J33: =T40 -> 0 | K33: =V40 -> 10 | L33: =U40 -> 60 | M33: X | N33: X | O33: X | P33: =S38 -> 0 | Q33: =U38 -> 0 | R33: =V38 -> 0 | S33: =SUM(G33+J33+P33) -> 0 | U33: =SUM(H33+K33+Q33) -> 25 | V33: =SUM(I33+L33+R33) -> 110 | X33: 3
B34: 4 | C34: =wiege!B16 -> 0 | E34: =wiege!D16 -> 0 | G34: =T39 -> 0 | H34: =V39 -> 0 | I34: =U39 -> 0 | J34: =T42 -> 0 | K34: =V42 -> 0 | L34: =U42 -> 0 | M34: =T38 -> 0 | N34: =V38 -> 0 | O34: =U38 -> 0 | P34: X | Q34: X | R34: X | S34: =SUM(G34+J34+M34) -> 0 | U34: =SUM(H34+K34+N34) -> 0 | V34: =SUM(I34+L34+O34) -> 0
B36: Kampffolgen Pool B : | S36: Erg. | U36: Unterbew. | X36: Zeit
B37: 1 - 2 | C37: =C31 -> 0 | E37: =E31 -> Freiburger JC | F37: - | G37: =C32 -> 0 | J37: 2 | K37: 5 | M37: =E32 -> FT Freiburg | S37: 0 | T37: 2 | U37: 17 | V37: 50 | Y37: 2
B38: 3 - 4 | C38: =C33 -> 0 | E38: =E33 -> JC Sinzheim | F38: - | G38: =C34 -> 0 | M38: =E34 -> 0
B39: 1 - 4 | C39: =C31 -> 0 | E39: =E31 -> Freiburger JC | F39: - | G39: =C34 -> 0 | M39: =E34 -> 0
B40: 2 - 3 | C40: =C32 -> 0 | E40: =E32 -> FT Freiburg | F40: - | G40: =C33 -> 0 | J40: 6 | K40: 1 | M40: =E33 -> JC Sinzheim | S40: 2 | T40: 0 | U40: 60 | V40: 10 | Y40: 9
B41: 1 - 3 | C41: =C31 -> 0 | E41: =E31 -> Freiburger JC | F41: - | G41: =C33 -> 0 | J41: 5 | K41: 2 | M41: =E33 -> JC Sinzheim | S41: 2 | T41: 0 | U41: 50 | V41: 15 | Y41: 4
B42: 2 - 4 | C42: =C32 -> 0 | E42: =E32 -> FT Freiburg | F42: - | G42: =C34 -> 0 | M42: =E34 -> 0
B44: Hauptrunde
B45: 1.A-P | C45: =IF(X15=1,C15,IF(X16=1,C16,IF(X17=1,C17,IF(X18=1,C18,"")))) -> 0 | D45: JT Heidelberg-Mannheim
F46: 6 | G46: =IF(F47="w",C45,IF(F47="r",C47,"")) | J46: JT Heidelberg-Mannheim | Y46: 10
B47: 2.B-P | C47: =IF(X31=2,C31,IF(X32=2,C32,IF(X33=2,C33,IF(X34=2,C34,"")))) -> 0 | D47: Freiburger JC | F47: 1 | G47: =IF(F47="w",E45,IF(F47="r",E47,"")) | P47: 5
Q48: =IF(P50="w",G46,IF(P50="r",G50,"")) | S48: JT Heidelberg-Mannheim | Y48: 13
B49: 2.A-P | C49: =IF(X15=2,C15,IF(X16=2,C16,IF(X17=2,C17,IF(X18=2,C18,"")))) -> 0 | D49: Heidelberger JC | Q49: =IF(P50="w",G47,IF(P50="r",G51,"")) | Y49: 11
F50: 6 | G50: =IF(F51="w",C49,IF(F51="r",C51,"")) | J50: Heidelberger JC | P50: 2
B51: 1.B-P | C51: =IF(X31=1,C31,IF(X32=1,C32,IF(X33=1,C33,IF(X34=1,C34,"")))) -> 0 | D51: FT Freiburg | F51: 1 | G51: =IF(F51="w",E49,IF(F51="r",E51,""))
B54: 3. Platz
B55: V.H-A | C55: =IF(X25=1,C25,IF(X26=1,C26,IF(X27=1,C27,IF(X28=1,C28,"")))) | D55: Freiburger JC
F56: 2 | G56: =IF(F57="w",C55,IF(F57="r",C57,"")) | J56: FT 1844 Freiburg | Y56: 12
B57: V.H-B | C57: =IF(X41=2,C41,IF(X42=2,C42,IF(X44=2,C44,IF(X45=2,C45,"")))) | D57: FT Freiburg | F57: 5 | G57: =IF(F57="w",E55,IF(F57="r",E57,""))
B60: 5. Platz | Q60: =IF(P62="w",G56,IF(P62="r",G62,""))
B61: 3.A-P | C61: =IF(X25=2,C25,IF(X26=2,C26,IF(X27=2,C27,IF(X28=2,C28,"")))) | Q61: =IF(P62="w",G57,IF(P62="r",G63,""))
F62: 0 | G62: =IF(F63="w",C61,IF(F63="r",C63,""))
B63: 3.B-P | C63: =IF(X41=1,C41,IF(X42=1,C42,IF(X44=1,C44,IF(X45=1,C45,"")))) | F63: 0 | G63: =IF(F63="w",E61,IF(F63="r",E63,""))

Sheet Liste
B1: Badenliga | H1: Badenliga
B2: Begegnung | H2: Begegnung
B3: Mannschaft | H3: Mannschaft
B5: Gewicht | C5: Name, Vorname | E5: Wertung | F5: Punkte | H5: Gewicht | I5: Name, Vorname | K5: Wertung | L5: Punkte
D27: Summe | J27: Summe
B29: Betreuer: | H29: Betreuer:

Sheet Ergebnis
A1: Badenliga Männer | C1: 2026
A2: 46319
A3: Hockenheim
D5: =Pool!R3 -> JT Heidelberg-Mannheim
B6: Verein | D6: =Pool!R4 -> Heidelberger JC
D7: =Pool!R5 -> FT 1844 Freiburg
A8: 1. | B8: JT Heidelberg-Mannheim | D8: =Pool!R6 -> Freiburger JC
A9: 2. | B9: Heidelberger JC | D9: =Pool!R7 -> PS Karlsruhe
A10: 3. | B10: FT 1844 Freiburg | D10: =Pool!R8 -> JC Sinzheim
A11: 4. | B11: Freiburger JC | D11: =Pool!R9 -> BC Schwetzingen
A12: 5. | B12: PS Karlsruhe | D12: =Pool!R10
A13: 6. | B13: JC Sinzheim
A14: 7. | B14: BC Schwetzingen
A15: 8.

Sheet Platz1
D27: =[1]Ergebnis!B1 -> Badenliga Männer
D28: 2026
D32: Die Mannschaft
D34: =Ergebnis!B8 -> JT Heidelberg-Mannheim
D36: belegte den
D40: =_xlfn.CONCAT(Ergebnis!A8," Platz") -> 1. Platz
A44: =_xlfn.CONCAT(Ergebnis!$A$3,", ") -> Hockenheim, | B44: =Ergebnis!$A$2 -> 46319

Sheet Platz2
D27: =[1]Ergebnis!B1 -> Badenliga Männer
D28: 2026
D32: Die Mannschaft
D34: =Ergebnis!B9 -> Heidelberger JC
D36: belegte den
D40: =_xlfn.CONCAT(Ergebnis!A9," Platz") -> 2. Platz
A44: =_xlfn.CONCAT(Ergebnis!$A$3,", ") -> Hockenheim, | B44: =Ergebnis!$A$2 -> 46319

Sheet Platz3
D27: =[1]Ergebnis!B1 -> Badenliga Männer
D28: 2026
D32: Die Mannschaft
D34: =Ergebnis!B10 -> FT 1844 Freiburg
D36: belegte den
D40: =_xlfn.CONCAT(Ergebnis!A10," Platz") -> 3. Platz
A44: =_xlfn.CONCAT(Ergebnis!$A$3,", ") -> Hockenheim, | B44: =Ergebnis!$A$2 -> 46319

Sheet Platz 4
D27: =[1]Ergebnis!B1 -> Badenliga Männer
D28: 2026
D32: Die Mannschaft
D34: =Ergebnis!B11 -> Freiburger JC
D36: belegte den
D40: =_xlfn.CONCAT(Ergebnis!A11," Platz") -> 4. Platz
A44: =_xlfn.CONCAT(Ergebnis!$A$3,", ") -> Hockenheim, | B44: =Ergebnis!$A$2 -> 46319

Sheet Platz 5
D27: =[1]Ergebnis!B1 -> Badenliga Männer
D28: 2026
D32: Die Mannschaft
D34: =Ergebnis!B12 -> PS Karlsruhe
D36: belegte den
D40: =_xlfn.CONCAT(Ergebnis!A12," Platz") -> 5. Platz
A44: =_xlfn.CONCAT(Ergebnis!$A$3,", ") -> Hockenheim, | B44: =Ergebnis!$A$2 -> 46319

Sheet Platz6
D27: =[1]Ergebnis!B1 -> Badenliga Männer
D28: 2026
D32: Die Mannschaft
D34: =Ergebnis!B13 -> JC Sinzheim
D36: belegte den
D40: =_xlfn.CONCAT(Ergebnis!A13," Platz") -> 6. Platz
A44: =_xlfn.CONCAT(Ergebnis!$A$3,", ") -> Hockenheim, | B44: =Ergebnis!$A$2 -> 46319

Sheet Platz7
D27: =[1]Ergebnis!B1 -> Badenliga Männer
D28: 2026
D32: Die Mannschaft
D34: =Ergebnis!B14 -> BC Schwetzingen
D36: belegte den
D40: =_xlfn.CONCAT(Ergebnis!A14," Platz") -> 7. Platz
A44: =_xlfn.CONCAT(Ergebnis!$A$3,", ") -> Hockenheim, | B44: =Ergebnis!$A$2 -> 46319

Sheet Platz8
D27: =[1]Ergebnis!B1 -> Badenliga Männer
D28: =[1]Ergebnis!D1 -> 2025
D32: Die Mannschaft
D34: =Ergebnis!B15 -> 0
D36: belegte den
D40: =_xlfn.CONCAT(Ergebnis!A15," Platz") -> 8. Platz
A44: =_xlfn.CONCAT(Ergebnis!$A$3,", ") -> Hockenheim, | B44: =Ergebnis!$A$2 -> 46319
