Workbook

Sheet wiege
A1: Veranstalter: | C1: BAC 55 Hockenheim e.V. | E1: Urkunde
A2: Art : | C2: Verbandsliga 2026 | E2: Urkunde
A3: Ort : | C3: Hockenheim | E3: Urkunde
A4: Datum : | C4: 46319
A5: Gewichtsklasse : | C5: Frauen | D5: Wiegeliste | F5: w
A6: Sportl. Leitung : | C6: Unsöld / Wölfelschneider
A7: Listen- | B7: Name | D7: Verein | E7: Jahr- | F7: Los
A8: platz | E8: gang
A9: 1 | D9: PS Karlsruhe
A10: 2 | D10: BC Karlsruhe
A11: 3 | D11: KG Heidelberg-Hockenheim
A12: 4 | D12: FT Freiburg

Sheet Pool
B2: Poolliste für 4 Kämpfer
J3: Platzierung :
A4: Veranstaltung: | C4: =wiege!C2 -> Verbandsliga 2026 | J4: 1. | K4: =IF(V13=1,B13,IF(V14=1,B14,IF(V15=1,B15,IF(V16=1,B16,"")))) -> 0 | Q4: =IF(V13=1,D13,IF(V14=1,D14,IF(V15=1,D15,IF(V16=1,D16,"")))) -> PS Karlsruhe
A5: Sportl. Leitung: | C5: =wiege!C6 -> Unsöld / Wölfelschneider | J5: 2. | K5: =IF(V13=2,B13,IF(V14=2,B14,IF(V15=2,B15,IF(V16=2,B16,"")))) -> 0 | Q5: =IF(V13=2,D13,IF(V14=2,D14,IF(V15=2,D15,IF(V16=2,D16,"")))) -> BC Karlsruhe
A6: Gewichtsklasse: | C6: =wiege!C5 -> Frauen | J6: 3. | K6: =IF(V13=3,B13,IF(V14=3,B14,IF(V15=3,B15,IF(V16=3,B16,"")))) -> 0 | Q6: =IF(V13=3,D13,IF(V14=3,D14,IF(V15=3,D15,IF(V16=3,D16,"")))) -> FT Freiburg
A7: Datum : | C7: =wiege!C4 -> 46319 | J7: 3. | K7: =IF(V13=4,B13,IF(V14=4,B14,IF(V15=4,B15,IF(V16=4,B16,"")))) -> 0 | Q7: =IF(V13=4,D13,IF(V14=4,D14,IF(V15=4,D15,IF(V16=4,D16,"")))) -> KG Heidelberg-Hockenheim
Q10: Gesamtwertung
E11: Pkt. | F11: Unterberwert. | H11: Pkt. | I11: Unterberwert. | K11: Pkt. | L11: Unterberwert. | N11: Pkt. | O11: Unterberwert. | Q11: Punkte | S11: Unterbewertung | V11: Ergebnis
A12: LOS | B12: Name | D12: Verein | F12: 1 | I12: 2 | L12: 3 | O12: 4
A13: 1 | B13: =wiege!B9 -> 0 | D13: =wiege!D9 -> PS Karlsruhe | E13: X | F13: X | G13: X | H13: =Q19 -> 2 | I13: =S19 -> 30 | J13: =T19 -> 20 | K13: =Q23 -> 2 | L13: =S23 -> 40 | M13: =T23 -> 5 | N13: =Q21 -> 2 | O13: =S21 -> 40 | P13: =T21 -> 10 | Q13: =SUM(H13+K13+N13) -> 6 | S13: =SUM(I13+L13+O13) -> 110 | T13: =SUM(J13+M13+P13) -> 35 | V13: 1
A14: 2 | B14: =wiege!B10 -> 0 | D14: =wiege!D10 -> BC Karlsruhe | E14: =R19 -> 0 | F14: =T19 -> 20 | G14: =S19 -> 30 | H14: X | I14: X | J14: X | K14: =Q22 -> 2 | L14: =S22 -> 40 | M14: =T22 -> 10 | N14: =Q24 -> 2 | O14: =S24 -> 30 | P14: =T24 -> 20 | Q14: =SUM(E14+K14+N14) -> 4 | S14: =SUM(F14+L14+O14) -> 90 | T14: =SUM(G14+M14+P14) -> 60 | V14: 2
A15: 3 | B15: =wiege!B11 -> 0 | D15: =wiege!D11 -> KG Heidelberg-Hockenheim | E15: =R23 -> 0 | F15: =T23 -> 5 | G15: =S23 -> 40 | H15: =R22 -> 0 | I15: =T22 -> 10 | J15: =S22 -> 40 | K15: X | L15: X | M15: X | N15: =Q20 -> 0 | O15: =S20 -> 20 | P15: =T20 -> 30 | Q15: =SUM(E15+H15+N15) -> 0 | S15: =SUM(F15+I15+O15) -> 35 | T15: =SUM(G15+J15+P15) -> 110 | V15: 4
A16: 4 | B16: =wiege!B12 -> 0 | D16: =wiege!D12 -> FT Freiburg | E16: =R21 -> 0 | F16: =T21 -> 10 | G16: =S21 -> 40 | H16: =R24 -> 0 | I16: =T24 -> 20 | J16: =S24 -> 30 | K16: =R20 -> 2 | L16: =T20 -> 30 | M16: =S20 -> 20 | N16: X | O16: X | P16: X | Q16: =SUM(E16+H16+K16) -> 2 | S16: =SUM(F16+I16+L16) -> 60 | T16: =SUM(G16+J16+M16) -> 90 | V16: 3
A18: Kampffolgen: | Q18: Erg. | S18: Unterbewertung | V18: Zeit
A19: 1 - 2 | B19: =B13 -> 0 | D19: =D13 -> PS Karlsruhe | E19: - | F19: =B14 -> 0 | H19: 3 | I19: 2 | K19: =D14 -> BC Karlsruhe | Q19: 2 | R19: 0 | S19: 30 | T19: 20 | W19: 1
A20: 3 - 4 | B20: =B15 -> 0 | D20: =D15 -> KG Heidelberg-Hockenheim | E20: - | F20: =B16 -> 0 | H20: 2 | I20: 3 | K20: =D16 -> FT Freiburg | Q20: 0 | R20: 2 | S20: 20 | T20: 30 | W20: 2
A21: 1 - 4 | B21: =B13 -> 0 | D21: =D13 -> PS Karlsruhe | E21: - | F21: =B16 -> 0 | H21: 4 | I21: 1 | K21: =D16 -> FT Freiburg | Q21: 2 | R21: 0 | S21: 40 | T21: 10 | W21: 5
A22: 2 - 3 | B22: =B14 -> 0 | D22: =D14 -> BC Karlsruhe | E22: - | F22: =B15 -> 0 | H22: 4 | I22: 1 | K22: =D15 -> KG Heidelberg-Hockenheim | Q22: 2 | R22: 0 | S22: 40 | T22: 10 | W22: 6
A23: 1 - 3 | B23: =B13 -> 0 | D23: =D13 -> PS Karlsruhe | E23: - | F23: =B15 -> 0 | H23: 4 | I23: 1 | K23: =D15 -> KG Heidelberg-Hockenheim | Q23: 2 | R23: 0 | S23: 40 | T23: 5 | W23: 3
A24: 2 - 4 | B24: =B14 -> 0 | D24: =D14 -> BC Karlsruhe | E24: - | F24: =B16 -> 0 | H24: 3 | I24: 2 | K24: =D16 -> FT Freiburg | Q24: 2 | R24: 0 | S24: 30 | T24: 20 | W24: 4

Sheet Liste
B1: Verbandsliga | H1: Verbandsliga
B2: Begegnung | H2: Begegnung
B3: Mannschaft | H3: Mannschaft
B5: Gewicht | C5: Name, Vorname | E5: Wertung | F5: Punkte | H5: Gewicht | I5: Name, Vorname | K5: Wertung | L5: Punkte
D21: Summe | J21: Summe
B23: Betreuer: | H23: Betreuer:

Sheet Ergebnis
A1: Verbandsliga Frauen | C1: 2026
A2: 46319
A3: Hockenheim
D5: =[1]Pool!R3
B6: Verein | D6: =[1]Pool!R4
D7: =[1]Pool!R5
A8: 1. | B8: PS Karlsruhe | D8: =[1]Pool!R6
A9: 2. | B9: BC Karlsruhe | D9: =[1]Pool!R7
A10: 3. | B10: FT 1844 Freiburg | D10: =[1]Pool!R8
A11: 4. | B11: KG Heidelberg-Hockenheim | D11: =[1]Pool!R9

Sheet Platz1
D27: =Ergebnis!$A$1 -> Verbandsliga Frauen
D28: =Ergebnis!$C$1 -> 2026
D32: Die Mannschaft
D34: =Ergebnis!B8 -> PS Karlsruhe
D36: belegte den
D40: =_xlfn.CONCAT(Ergebnis!A8," Platz") -> 1. Platz
A44: =_xlfn.CONCAT(Ergebnis!$A$3,", ") -> Hockenheim, | B44: =Ergebnis!$A$2 -> 46319

Sheet Platz2
D27: =Ergebnis!$A$1 -> Verbandsliga Frauen
D28: =Ergebnis!$C$1 -> 2026
D32: Die Mannschaft
D34: =Ergebnis!B9 -> BC Karlsruhe
D36: belegte den
D40: =_xlfn.CONCAT(Ergebnis!A9," Platz") -> 2. Platz
A44: =_xlfn.CONCAT(Ergebnis!$A$3,", ") -> Hockenheim, | B44: =Ergebnis!$A$2 -> 46319

Sheet Platz3
D27: =Ergebnis!$A$1 -> Verbandsliga Frauen
D28: =Ergebnis!$C$1 -> 2026
D32: Die Mannschaft
D34: =Ergebnis!B10 -> FT 1844 Freiburg
D36: belegte den
D40: =_xlfn.CONCAT(Ergebnis!A10," Platz") -> 3. Platz
A44: =_xlfn.CONCAT(Ergebnis!$A$3,", ") -> Hockenheim, | B44: =Ergebnis!$A$2 -> 46319

Sheet Platz4
D27: =Ergebnis!$A$1 -> Verbandsliga Frauen
D28: =Ergebnis!$C$1 -> 2026
D32: Die Mannschaft
D34: =Ergebnis!B11 -> KG Heidelberg-Hockenheim
D36: belegte den
D40: =_xlfn.CONCAT(Ergebnis!A11," Platz") -> 4. Platz
A44: =_xlfn.CONCAT(Ergebnis!$A$3,", ") -> Hockenheim, | B44: =Ergebnis!$A$2 -> 46319
